Workbook
Name Body_Code_Movex: Dependencies!$G$162:$G$231
Name Body_Disp: Dependencies!$B$162:$B$231
Name Body_Foot: Dependencies!$D$162:$D$231
Name Body_Foot_Descr: Dependencies!$F$162:$F$231
Name Body_Foot_FR: Dependencies!$J$162:$J$231
Name Body_Foot_GB: Dependencies!$K$162:$K$231
Name Body_Foot_Movex_Digit: Dependencies!$I$162:$I$231
Name Body_Manual: Dependencies!$H$162:$H$231
Name Body_Mat: Dependencies!$C$162:$C$231
Name Body_Techno: Dependencies!$A$162:$A$231
Name Choice_Disp: Parameters!$D$9
Name Choice_Foot: Parameters!$J$9
Name Choice_Mat: Parameters!$H$9
Name Choice_Motor: Parameters!$F$9
Name Choice_Seal: Parameters!$L$9
Name Choice_Techno: Parameters!$B$9
Name ChoiceFoot: #REF!
Name ChoiceMat: #REF!
Name ChoiceMotor: #REF!
Name ChoicePump: #REF!
Name ChoiceSeals: #REF!
Name ChoiceTechno: #REF!
Name Com_FR: 'REXSON Pump configurator'!$E$22
Name Com_GB: 'REXSON Pump configurator'!$E$21
Name Country: International!$A$3:$A$18
Name Country_Coef: International!$D$3:$D$18
Name Country_Currency: International!$C$3:$C$18
Name Country_Language: International!$B$3:$B$18
Name Date_Delivery: 'REXSON Pump configurator'!$J$24
Name Designation: 'REXSON Pump configurator'!$G$2
Name Designation_Disp: Parameters!$D$6
Name Designation_Foot: Parameters!$G$6
Name Designation_Mat: Parameters!$F$6
Name Designation_Motor: Parameters!$E$6
Name Designation_Seal: Parameters!$H$6
Name Designation_Techno: Parameters!$C$6
Name DesignMatFoot: #REF!
Name DesignMot: #REF!
Name DesignPump: #REF!
Name DesignSeal: #REF!
Name DesignTechno: #REF!
Name Disp_Code: Dictionnary!$A$9:$A$31
Name Disp_Descr: Dictionnary!#REF!
Name Disp_Descr: Dictionnary!#REF!
Name Disp_Movex_Digit: Dictionnary!$B$9:$B$31
Name Entry_Choice: Parameters!$B$4
Name Flange_BUAR: Dependencies!$H$33:$H$113
Name Flange_Code_Movex: Dependencies!$F$33:$F$113
Name Flange_Disp: Dependencies!$B$33:$B$113
Name Flange_FR: Dependencies!$D$33:$D$113
Name Flange_GB: Dependencies!$E$33:$E$113
Name Flange_ITCL: Dependencies!$I$33:$I$113
Name Flange_ITGR: Dependencies!$J$33:$J$113
Name Flange_Manual: Dependencies!$K$33:$K$113
Name Flange_Motor: Dependencies!$C$33:$C$113
Name Flange_Sticker_Code_Movex: Dependencies!$G$33:$G$113
Name Flange_Techno: Dependencies!$A$33:$A$113
Name Foot_Code: Dictionnary!$A$57:$A$69
Name Foot_Descr: Dictionnary!$B$57:$B$69
Name Foot_FR: Dictionnary!#REF!

Sheet Price&Delay
A1: REF | B1: DESIGNATION | C1: STATUT | D1: Cost | E1: Cost Date | F1: Year | G1: Month | H1: Subs Price | I1: End User | J1: Product | K1: witness article | L1: Annual Qty | M1: CB Calculé | N1: CB Choix | O1: Justif & commentaire
A2: 10601100/ | B2: *** MOT 1000 COURSE 120 | C2: 20 | D2: 518.55703 | E2: 20210504 | F2: =VALUE(LEFT(E2,4)) -> 2021 | G2: =VALUE(RIGHT(LEFT(E2,6),2)) -> 5 | H2: =D2/0.64*1.04*1.07*1.04*1.015 -> 951.77228 | I2: =H2/0.45 -> 2115.0495 | J2: Moteur 1000 | K2: 210288R | L2: 33 | M2: =MIN(45,ROUNDUP(52/L2,0)*5) -> 10 | N2: 10
A3: 10602100/ | B3: *** MOT 1500 COURSE 120 | C3: 20 | D3: 463.08305 | E3: 20210504 | F3: =VALUE(LEFT(E3,4)) -> 2021 | G3: =VALUE(RIGHT(LEFT(E3,6),2)) -> 5 | H3: =D3/0.64*1.04*1.07*1.04*1.015 -> 849.95397 | I3: =H3/0.45 -> 1888.7866 | J3: Moteur 1500 | K3: 209397R | L3: 24 | M3: =MIN(45,ROUNDUP(52/L3,0)*5) -> 15 | N3: 10 | O3: Pièces identiques au moteur 1000
A4: 846310000+ | B4: *** MOT 3000-120 | C4: 20 | D4: 463.89002 | E4: 20210504 | F4: =VALUE(LEFT(E4,4)) -> 2021 | G4: =VALUE(RIGHT(LEFT(E4,6),2)) -> 5 | H4: =D4/0.64*1.04*1.07*1.04*1.015 -> 851.43512 | I4: =H4/0.45 -> 1892.078 | J4: Moteur 3000 | K4: 209405R | L4: 131 | M4: =MIN(45,ROUNDUP(52/L4,0)*5) -> 5 | N4: 5
A5: 10526100/ | B5: *** MOT 6000 COURSE 120 | C5: 20 | D5: 1001.7206 | E5: 20210504 | F5: =VALUE(LEFT(E5,4)) -> 2021 | G5: =VALUE(RIGHT(LEFT(E5,6),2)) -> 5 | H5: =D5/0.64*1.04*1.07*1.04*1.015 -> 1838.5826 | I5: =H5/0.45 -> 4085.7391 | J5: Moteur 6000 | K5: 209371R - 210604R | L5: 2 | M5: =MIN(45,ROUNDUP(52/L5,0)*5) -> 45 | N5: 10 | O5: Pièces identiques au moteur 5000 sauf la tige de piston identique aux moteurs 7 et 9000
A6: 846320000+ | B6: *** MOTEUR 5000-120 | C6: 20 | D6: 990.93596 | E6: 20210504 | F6: =VALUE(LEFT(E6,4)) -> 2021 | G6: =VALUE(RIGHT(LEFT(E6,6),2)) -> 5 | H6: =D6/0.64*1.04*1.07*1.04*1.015 -> 1818.7881 | I6: =H6/0.45 -> 4041.7514 | J6: Moteur 5000 | K6: 210604R | L6: 98 | M6: =MIN(45,ROUNDUP(52/L6,0)*5) -> 5 | N6: 5
A7: 846330000+ | B7: *** MOTEUR 7000-120 | C7: 20 | D7: 1085.8174 | E7: 20210504 | F7: =VALUE(LEFT(E7,4)) -> 2021 | G7: =VALUE(RIGHT(LEFT(E7,6),2)) -> 5 | H7: =D7/0.64*1.04*1.07*1.04*1.015 -> 1992.9359 | I7: =H7/0.45 -> 4428.7464 | J7: Moteur 7000 | K7: 205209R | L7: 29 | M7: =MIN(45,ROUNDUP(52/L7,0)*5) -> 10 | N7: 10
A8: 846340000+ | B8: *** MOTEUR 9000-120 | C8: 20 | D8: 1294.5058 | E8: 20210504 | F8: =VALUE(LEFT(E8,4)) -> 2021 | G8: =VALUE(RIGHT(LEFT(E8,6),2)) -> 5 | H8: =D8/0.64*1.04*1.07*1.04*1.015 -> 2375.9677 | I8: =H8/0.45 -> 5279.9282 | J8: Moteur 9000 | K8: 9009R | L8: 28 | M8: =MIN(45,ROUNDUP(52/L8,0)*5) -> 10 | N8: 10
A9: 10527200/ | B9: *** MOT 7000-200 | C9: 20 | D9: 1096.6131 | E9: 20210504 | F9: =VALUE(LEFT(E9,4)) -> 2021 | G9: =VALUE(RIGHT(LEFT(E9,6),2)) -> 5 | H9: =D9/0.64*1.04*1.07*1.04*1.015 -> 2012.7506 | I9: =H9/0.45 -> 4472.779 | J9: Moteur 7200 | K9: 205707R | L9: 15 | M9: =MIN(45,ROUNDUP(52/L9,0)*5) -> 20 | N9: 10 | O9: Seule pièce spécifique est le cylindre
A10: 10529200/ | B10: *** MOT 9000-200 | C10: 20 | D10: 1304.7262 | E10: 20210504 | F10: =VALUE(LEFT(E10,4)) -> 2021 | G10: =VALUE(RIGHT(LEFT(E10,6),2)) -> 5 | H10: =D10/0.64*1.04*1.07*1.04*1.015 -> 2394.7264 | I10: =H10/0.45 -> 5321.6142 | J10: Moteur 9200 | K10: 9201R | L10: 30 | M10: =MIN(45,ROUNDUP(52/L10,0)*5) -> 10 | N10: 10
A11: 846350000+ | B11: *** MOTEUR DOUBLE ETAGES 9200 | C11: 20 | D11: 3316.6887 | E11: 20210504 | F11: =VALUE(LEFT(E11,4)) -> 2021 | G11: =VALUE(RIGHT(LEFT(E11,6),2)) -> 5 | H11: =D11/0.64*1.04*1.07*1.04*1.015 -> 6087.5318 | I11: =H11/0.45 -> 13527.848 | J11: Moteur 2x9200 | K11: 046350002+ | L11: 17 | M11: =MIN(45,ROUNDUP(52/L11,0)*5) -> 20 | N11: 20
A12: 049020221+ | B12: REXSON 08C207 ETIQU | C12: 20 | D12: 23.81184 | E12: 20210504 | F12: =VALUE(LEFT(E12,4)) -> 2021 | G12: =VALUE(RIGHT(LEFT(E12,6),2)) -> 5 | H12: =D12/0.64*1.04*1.07*1.04*1.015 -> 43.704835 | I12: =H12/0.45 -> 97.121855 | J12: Etiquette | N12: 5
A13: 049020220+ | B13: REXSON 03C225 ETIQU | C13: 20 | D13: 3.616704 | E13: 20210504 | F13: =VALUE(LEFT(E13,4)) -> 2021 | G13: =VALUE(RIGHT(LEFT(E13,6),2)) -> 5 | H13: =D13/0.64*1.04*1.07*1.04*1.015 -> 6.6381871 | I13: =H13/0.45 -> 14.751527 | J13: Etiquette | N13: 5
A14: 049020224+ | B14: REXSON 15C124 ETIQU | C14: 20 | D14: 8.659872 | E14: 20210504 | F14: =VALUE(LEFT(E14,4)) -> 2021 | G14: =VALUE(RIGHT(LEFT(E14,6),2)) -> 5 | H14: =D14/0.64*1.04*1.07*1.04*1.015 -> 15.894541 | I14: =H14/0.45 -> 35.321203 | J14: Etiquette | N14: 5
A15: 049020225+ | B15: REXSON 16C207 ETIQU | C15: 20 | D15: 23.81184 | E15: 20210504 | F15: =VALUE(LEFT(E15,4)) -> 2021 | G15: =VALUE(RIGHT(LEFT(E15,6),2)) -> 5 | H15: =D15/0.64*1.04*1.07*1.04*1.015 -> 43.704835 | I15: =H15/0.45 -> 97.121855 | J15: Etiquette | N15: 5
A16: 049020244+ | B16: REXSON 30C60 ETIQU | C16: 20 | D16: 17.07264 | E16: 20210504 | F16: =VALUE(LEFT(E16,4)) -> 2021 | G16: =VALUE(RIGHT(LEFT(E16,6),2)) -> 5 | H16: =D16/0.64*1.04*1.07*1.04*1.015 -> 31.335542 | I16: =H16/0.45 -> 69.634537 | J16: Etiquette | N16: 5
A17: 049020261+ | B17: REXSON 60C60 ETIQU | C17: 20 | D17: 17.07264 | E17: 20210504 | F17: =VALUE(LEFT(E17,4)) -> 2021 | G17: =VALUE(RIGHT(LEFT(E17,6),2)) -> 5 | H17: =D17/0.64*1.04*1.07*1.04*1.015 -> 31.335542 | I17: =H17/0.45 -> 69.634537 | J17: Etiquette | N17: 5
A18: 049020226+ | B18: REXSON 16C225 ETIQU | C18: 20 | D18: 3.616704 | E18: 20210504 | F18: =VALUE(LEFT(E18,4)) -> 2021 | G18: =VALUE(RIGHT(LEFT(E18,6),2)) -> 5 | H18: =D18/0.64*1.04*1.07*1.04*1.015 -> 6.6381871 | I18: =H18/0.45 -> 14.751527 | J18: Etiquette | N18: 5
A19: 049020228+ | B19: REXSON 17C106 ETIQU | C19: 20 | D19: 16.971552 | E19: 20210504 | F19: =VALUE(LEFT(E19,4)) -> 2021 | G19: =VALUE(RIGHT(LEFT(E19,6),2)) -> 5 | H19: =D19/0.64*1.04*1.07*1.04*1.015 -> 31.150002 | I19: =H19/0.45 -> 69.222227 | J19: Etiquette | N19: 5
A20: 049020231+ | B20: REXSON 18C910 ETIQU | C20: 20 | D20: 3.515616 | E20: 20210504 | F20: =VALUE(LEFT(E20,4)) -> 2021 | G20: =VALUE(RIGHT(LEFT(E20,6),2)) -> 5 | H20: =D20/0.64*1.04*1.07*1.04*1.015 -> 6.4526477 | I20: =H20/0.45 -> 14.339217 | J20: Etiquette | N20: 5
A21: 049020232+ | B21: REXSON 18C980 ETIQU | C21: 20 | D21: 16.971552 | E21: 20210504 | F21: =VALUE(LEFT(E21,4)) -> 2021 | G21: =VALUE(RIGHT(LEFT(E21,6),2)) -> 5 | H21: =D21/0.64*1.04*1.07*1.04*1.015 -> 31.150002 | I21: =H21/0.45 -> 69.222227 | J21: Etiquette | N21: 5
A22: 049020233+ | B22: REXSON 23C79 ETIQU | C22: 20 | D22: 8.659872 | E22: 20210504 | F22: =VALUE(LEFT(E22,4)) -> 2021 | G22: =VALUE(RIGHT(LEFT(E22,6),2)) -> 5 | H22: =D22/0.64*1.04*1.07*1.04*1.015 -> 15.894541 | I22: =H22/0.45 -> 35.321203 | J22: Etiquette | N22: 5
A23: 049020236+ | B23: REXSON 25C750 ETIQU | C23: 20 | D23: 3.515616 | E23: 20210504 | F23: =VALUE(LEFT(E23,4)) -> 2021 | G23: =VALUE(RIGHT(LEFT(E23,6),2)) -> 5 | H23: =D23/0.64*1.04*1.07*1.04*1.015 -> 6.4526477 | I23: =H23/0.45 -> 14.339217 | J23: Etiquette | N23: 5
... A60: 1027240100/ | B60: *** HYD BLL 453cc C200 | C60: 20 | D60: 1618.7409 | E60: 20210504 | F60: =VALUE(LEFT(E60,4)) -> 2021 | G60: =VALUE(RIGHT(LEFT(E60,6),2)) -> 5 | H60: =D60/0.64*1.04*1.07*1.04*1.015 -> 2971.0768 | I60: =H60/0.45 -> 6602.3928 | J60: Hydraulique C453 | N60: 45
A61: 1041340000/ | B61: *** HYD 4 BILLES C750 ACIER | C61: 20 | D61: 1927.9984 | E61: 20210504 | F61: =VALUE(LEFT(E61,4)) -> 2021 | G61: =VALUE(RIGHT(LEFT(E61,6),2)) -> 5 | H61: =D61/0.64*1.04*1.07*1.04*1.015 -> 3538.6955 | I61: =H61/0.45 -> 7863.7678 | J61: Hydraulique QUATRO C750 | K61: 207823R | L61: 17 | M61: =MIN(45,IF(L61<>0,ROUNDUP(52/L61,0)*5,45)) -> 20 | N61: 20
A62: 1041340100/ | B62: *** HYD 4 BILLES C750 CARBURE | C62: 20 | D62: 3052 | E62: 20260908 | F62: =VALUE(LEFT(E62,4)) -> 2026 | G62: =VALUE(RIGHT(LEFT(E62,6),2)) -> 9 | H62: =D62/0.64 -> 4768.75 | I62: =H62/0.45 -> 10597.222 | N62: 45 | O62: Création de la variante sur la version E2027
A63: 1041350000/ | B63: *** HYD 4 BILLE C570 | C63: 20 | D63: 2022.7515 | E63: 20210504 | F63: =VALUE(LEFT(E63,4)) -> 2021 | G63: =VALUE(RIGHT(LEFT(E63,6),2)) -> 5 | H63: =D63/0.64*1.04*1.07*1.04*1.015 -> 3712.6077 | I63: =H63/0.45 -> 8250.2394 | J63: Hydraulique QUATRO C570 | K63: 207829R | L63: 25 | M63: =MIN(45,IF(L63<>0,ROUNDUP(52/L63,0)*5,45)) -> 15 | N63: 20
A64: 1057431000/ | B64: *** HYD 4 BLL C570 INOX | C64: 20 | D64: 5392.6341 | E64: 20210504 | F64: =VALUE(LEFT(E64,4)) -> 2021 | G64: =VALUE(RIGHT(LEFT(E64,6),2)) -> 5 | H64: =D64/0.64*1.04*1.07*1.04*1.015 -> 9897.7727 | I64: =H64/0.45 -> 21995.05 | J64: Hydraulique QUATRO C570 INOX | K64: 210222R | L64: 0 | M64: =MIN(45,IF(L64<>0,ROUNDUP(52/L64,0)*5,45)) -> 45 | N64: 45
A65: 1051760400/ | B65: *** HYD BLL C588 ACIER P04 | C65: 20 | D65: 1740.2906 | E65: 20210504 | F65: =VALUE(LEFT(E65,4)) -> 2021 | G65: =VALUE(RIGHT(LEFT(E65,6),2)) -> 5 | H65: =D65/0.64*1.04*1.07*1.04*1.015 -> 3194.172 | I65: =H65/0.45 -> 7098.1601 | J65: Hydraulique C588 | N65: 45
A66: 1051761000/ | B66: *** HYD BLL C588 INOX P10 | C66: 20 | D66: 1399.3804 | E66: 20210504 | F66: =VALUE(LEFT(E66,4)) -> 2021 | G66: =VALUE(RIGHT(LEFT(E66,6),2)) -> 5 | H66: =D66/0.64*1.04*1.07*1.04*1.015 -> 2568.4571 | I66: =H66/0.45 -> 5707.6824 | J66: Hydraulique C588 | N66: 45
A67: 1051761100/ | B67: *** HYD BLL C588 INOX P11 | C67: 20 | D67: 1609.239 | E67: 20210504 | F67: =VALUE(LEFT(E67,4)) -> 2021 | G67: =VALUE(RIGHT(LEFT(E67,6),2)) -> 5 | H67: =D67/0.64*1.04*1.07*1.04*1.015 -> 2953.6367 | I67: =H67/0.45 -> 6563.637 | J67: Hydraulique C588 | N67: 45
A68: 1051761400/ | B68: *** HYD BLL C588 INOX P14 | C68: 20 | D68: 2091.373 | E68: 20210504 | F68: =VALUE(LEFT(E68,4)) -> 2021 | G68: =VALUE(RIGHT(LEFT(E68,6),2)) -> 5 | H68: =D68/0.64*1.04*1.07*1.04*1.015 -> 3838.5573 | I68: =H68/0.45 -> 8530.1273 | J68: Hydraulique C588 | N68: 45
A69: 1051760100/ | B69: *** HYD BLL C588 ACIER P01 | C69: 20 | D69: 1103.6144 | E69: 20210504 | F69: =VALUE(LEFT(E69,4)) -> 2021 | G69: =VALUE(RIGHT(LEFT(E69,6),2)) -> 5 | H69: =D69/0.64*1.04*1.07*1.04*1.015 -> 2025.6009 | I69: =H69/0.45 -> 4501.3354 | J69: Hydraulique C588 | N69: 45
A70: 1051760300/ | B70: *** HYD BLL C588 ACIER P03 | C70: 20 | D70: 1238.1191 | E70: 20210504 | F70: =VALUE(LEFT(E70,4)) -> 2021 | G70: =VALUE(RIGHT(LEFT(E70,6),2)) -> 5 | H70: =D70/0.64*1.04*1.07*1.04*1.015 -> 2272.4742 | I70: =H70/0.45 -> 5049.9426 | J70: Hydraulique C588 | N70: 45
A71: 1051810200/ | B71: *** HYD PLT D 27 60cc P1- SANS | C71: 20 | D71: 545.18292 | E71: 20210504 | F71: =VALUE(LEFT(E71,4)) -> 2021 | G71: =VALUE(RIGHT(LEFT(E71,6),2)) -> 5 | H71: =D71/0.64*1.04*1.07*1.04*1.015 -> 1000.6421 | I71: =H71/0.45 -> 2223.6491 | J71: Hydraulique C60 CS PS | N71: 20
A72: 1051810300/ | B72: *** HYD PLT D 27 60cc P1- SANS | C72: 20 | D72: 848.35177 | E72: 20210504 | F72: =VALUE(LEFT(E72,4)) -> 2021 | G72: =VALUE(RIGHT(LEFT(E72,6),2)) -> 5 | H72: =D72/0.64*1.04*1.07*1.04*1.015 -> 1557.0856 | I72: =H72/0.45 -> 3460.1903 | J72: Hydraulique C60 CS Drum 60L | N72: 20
A73: 1051810400/ | B73: *** HYD PLT D27 60cc SANS JOIN | C73: 80 | D73: 931.18356 | E73: 20210504 | F73: =VALUE(LEFT(E73,4)) -> 2021 | G73: =VALUE(RIGHT(LEFT(E73,6),2)) -> 5 | H73: =D73/0.64*1.04*1.07*1.04*1.015 -> 1709.1171 | I73: =H73/0.45 -> 3798.038 | J73: Hydraulique C60 CS Drum 200L | N73: 20
A74: 1051811000/ | B74: *** HYD PLT ALTO INOX D27 60CC | C74: 20 | D74: 835.75476 | E74: 20210504 | F74: =VALUE(LEFT(E74,4)) -> 2021 | G74: =VALUE(RIGHT(LEFT(E74,6),2)) -> 5 | H74: =D74/0.64*1.04*1.07*1.04*1.015 -> 1533.9648 | I74: =H74/0.45 -> 3408.8106 | J74: Hydraulique C60 SS PS | N74: 20
A75: 1051710100/ | B75: *** HYD BLL C79 P01 | C75: 20 | D75: 697.26431 | E75: 20210504 | F75: =VALUE(LEFT(E75,4)) -> 2021 | G75: =VALUE(RIGHT(LEFT(E75,6),2)) -> 5 | H75: =D75/0.64*1.04*1.07*1.04*1.015 -> 1279.776 | I75: =H75/0.45 -> 2843.9467 | J75: Hydraulique INOX C79 | K75: 209607R | L75: 5 | M75: =MIN(45,IF(L75<>0,ROUNDUP(52/L75,0)*5,45)) -> 45 | N75: 20 | O75: Beaucoup de pièces commune avec la C60
A76: 1051710300/ | B76: *** HYD BLL C79 P03 | C76: 20 | D76: 879.07831 | E76: 20210504 | F76: =VALUE(LEFT(E76,4)) -> 2021 | G76: =VALUE(RIGHT(LEFT(E76,6),2)) -> 5 | H76: =D76/0.64*1.04*1.07*1.04*1.015 -> 1613.4819 | I76: =H76/0.45 -> 3585.5153 | J76: Hydraulique INOX C79 | K76: 209607R | L76: 5 | M76: =MIN(45,IF(L76<>0,ROUNDUP(52/L76,0)*5,45)) -> 45 | N76: 20 | O76: Beaucoup de pièces commune avec la C60
...

Sheet REXSON Pump configurator
D1: REXSON Pumps Configurator
D2: =INDEX(Translation,MATCH("Designation",Tr_Index,0),MATCH(User_Language,Language,0)) -> Designation | G2: REX2B0588-70-CS-WM-03 | J2: =Test_Designation -> VALIDE
D4: =INDEX(Translation,MATCH("Configuration",Tr_Index,0),MATCH(User_Language,Language,0)) -> Configuration | G4: =INDEX(Translation,MATCH("Select product configuration",Tr_Index,0),MATCH(User_Language,Language,0)) -> Select product configuration | J4: {=IF(OR(J5:J10="O"),"NOT VALIDE","VALIDE")} -> VALIDE
D5: =INDEX(Translation,MATCH("Pump technology",Tr_Index,0),MATCH(User_Language,Language,0)) -> Pump technology | J5: =IF(INDEX(Scroll_Techno,Choice_Techno)<>"","P","O") -> P
D6: =INDEX(Translation,MATCH("Pump displacment [cc]",Tr_Index,0),MATCH(User_Language,Language,0)) -> Pump displacment [cc] | J6: =IF(INDEX(Scroll_Disp,Choice_Disp)<>"","P","O") -> P
D7: =INDEX(Translation,MATCH("Motor",Tr_Index,0),MATCH(User_Language,Language,0)) -> Motor | J7: =IF(INDEX(Scroll_Motor,Choice_Motor)<>"","P","O") -> P
D8: =INDEX(Translation,MATCH("Material",Tr_Index,0),MATCH(User_Language,Language,0)) -> Material | J8: =IF(INDEX(Scroll_Mat,Choice_Mat)<>"","P","O") -> P
D9: =INDEX(Translation,MATCH("Foot / Connection Size",Tr_Index,0),MATCH(User_Language,Language,0)) -> Foot / Connection Size | J9: =IF(INDEX(Scroll_Foot,Choice_Foot)<>"","P","O") -> P
D10: =INDEX(Translation,MATCH("Seal Pack (Static Seal)",Tr_Index,0),MATCH(User_Language,Language,0)) -> Seal Pack (Static Seal) | J10: =IF(INDEX(Scroll_Seal,Choice_Seal)<>"","P","O") -> P
B14: =INDEX(Translation,MATCH("Location",Tr_Index,0),MATCH(User_Language,Language,0)) -> Location
B16: =INDEX(Translation,MATCH("Product",Tr_Index,0),MATCH(User_Language,Language,0)) -> Product | C16: TECH | D16: CCCC | E16: MO | F16: MAT | G16: FOOT | H16: SEAL | I16: =INDEX(Translation,MATCH("Configuration Available?",Tr_Index,0),MATCH(User_Language,Language,0)) -> Configuration Available?
B17: REX | C17: =IF(Entry_Choice=2,Designation_Techno,INDEX(List_Techno,Choice_Techno)) -> 2B | D17: =IF(Entry_Choice=2,Designation_Disp,INDEX(List_Disp,Choice_Disp)) -> 0588 | E17: =IF(Entry_Choice=2,Designation_Motor,INDEX(List_Motor,Choice_Motor)) -> 70 | F17: =IF(Entry_Choice=2,Designation_Mat,INDEX(List_Mat,Choice_Mat)) -> CS | G17: =IF(Entry_Choice=2,Designation_Foot,INDEX(List_Foot,Choice_Foot)) -> WM | H17: =IF(Entry_Choice=2,Designation_Seal,INDEX(List_Seal,Choice_Seal)) -> 03 | I17: {=IF(OR( C17:H17="", C17:H17="ERROR", ISERROR(MATCH(User_Techno&User_Disp&User_Mot,Flange_Techno&Flange_Disp&Flange_Motor,0)), ISERROR(MATCH(User_Techno&User_Disp&User_Mat&User_Foot,Body_Techno&Body_Disp&Body_Mat&Body_Foot,0)) ),"NO","YES")} -> YES
B19: =INDEX(Translation,MATCH("MOVEX Proposed Code",Tr_Index,0),MATCH(User_Language,Language,0)) -> MOVEX Proposed Code | E19: {=IF(Test="YES", IFERROR( INDEX('Tarif 2027'!A:A, MATCH("#"&'REXSON Pump configurator'!E20,'Tarif 2027'!C:C,0)), INDEX(Techno_Movex_Digit,MATCH(User_Techno,Techno_Code,0)) &INDEX(Motor_Movex_Digit,MATCH(User_Mot,Motor_Code,0)) &INDEX(Disp_Movex_Digit,MATCH(User_Disp,Disp_Code,0)) &INDEX(Mat_Movex_Digit,MATCH(User_Mat,Mat_Code,0)) &INDEX(Seal_Movex_Digit,MATCH(User_Seal,Seal_Code,0)) &INDEX(Body_Foot_Movex_Digit, MATCH(User_Techno&User_Disp&User_Mat&User_Foot,Body_Techno&Body_Disp&Body_Mat&Body_Foot,0)) &"000"), "")} -> 61450588131000
B20: =INDEX(Translation,MATCH("Designation",Tr_Index,0),MATCH(User_Language,Language,0)) -> Designation | E20: =IF(Test="YES","REX"&User_Techno&User_Disp&"-"&User_Mot&"-"&User_Mat&"-"&User_Foot&"-"&User_Seal,"") -> REX2B0588-70-CS-WM-03
B21: =INDEX(Translation,MATCH("Commercial Designation",Tr_Index,0),MATCH(User_Language,Language,0)) -> Commercial Designation | D21: GB | E21: {=IF(Test="YES",INDEX(Techno_GB,MATCH(User_Techno,Techno_Code,0))&" "&INDEX(Flange_GB,MATCH(User_Techno&User_Disp&User_Mot,Flange_Techno&Flange_Disp&Flange_Motor,0))&" "&VALUE(User_Disp)&"CC "&INDEX(Mat_GB,MATCH(User_Mat,Mat_Code,0))&" "&INDEX(Body_Foot_GB,MATCH(User_Techno&User_Disp&User_Mat&User_Foot,Body_Techno&Body_Disp&Body_Mat&Body_Foot,0))&" "&INDEX(Seal_GB,MATCH(User_Seal,Seal_Code,0)),"")} -> REXSON 2 BALLS PUMP 18/1 588CC CS WALL S03
D22: FR | E22: {=IF(Test="YES",INDEX(Techno_FR,MATCH(User_Techno,Techno_Code,0))&" "&INDEX(Flange_FR,MATCH(User_Techno&User_Disp&User_Mot,Flange_Techno&Flange_Disp&Flange_Motor,0))&" "&VALUE(User_Disp)&"CC "&INDEX(Mat_FR,MATCH(User_Mat,Mat_Code,0))&" "&INDEX(Body_Foot_FR,MATCH(User_Techno&User_Disp&User_Mat&User_Foot,Body_Techno&Body_Disp&Body_Mat&Body_Foot,0))&" "&INDEX(Seal_FR,MATCH(User_Seal,Seal_Code,0)),"")} -> POMPE REXSON 2 BILLES 18/1 588CC ACIER MURALE J03
B24: =INDEX(Translation,MATCH("Marketing",Tr_Index,0),MATCH(User_Language,Language,0)) -> Marketing | D24: BUAR | E24: ITCL | F24: ITGR | I24: =INDEX(Translation,MATCH("Delivery (days)",Tr_Index,0),MATCH(User_Language,Language,0)) -> Delivery (days) | J24: {=IF(Test="YES",IF(OR(AND(H30:H34<>"-"),AND(User_Mot="XX",I31:I34<>"Not available")),MAX(H30:H34),"Not available"),"")} -> 45
B25: =INDEX(Translation,MATCH("Classification",Tr_Index,0),MATCH(User_Language,Language,0)) -> Classification | D25: {=IF(Test="YES",INDEX(Flange_BUAR,MATCH(User_Techno&User_Disp&User_Mot,Flange_Techno&Flange_Disp&Flange_Motor,0)),"")} -> FGX | E25: {=IF(Test="YES",INDEX(Flange_ITCL,MATCH(User_Techno&User_Disp&User_Mot,Flange_Techno&Flange_Disp&Flange_Motor,0)),"")} -> F200 | F25: {=IF(Test="YES",INDEX(Flange_ITGR,MATCH(User_Techno&User_Disp&User_Mot,Flange_Techno&Flange_Disp&Flange_Motor,0)),"")} -> F4030310 | I25: =INDEX(Translation,MATCH("Datasheets",Tr_Index,0),MATCH(User_Language,Language,0)) -> Datasheets | J25: =IFERROR(HYPERLINK(SUBSTITUTE(CELL( "adresse",INDIRECT(ADDRESS( 1,1,1,1,INDEX(Motor_Datasheet,MATCH(User_Mot,Motor_Code,0)) )) ),"'",""), INDEX(Motor_Datasheet,MATCH(User_Mot,Motor_Code,0))&" Datasheet"),"Not available") -> Not available
B26: =INDEX(Translation,MATCH("Customs Code",Tr_Index,0),MATCH(User_Language,Language,0)) -> Customs Code | D26: =IF(Test="YES",INDEX(Motor_Custom,MATCH(User_Mot,Motor_Code,0)),"") -> 8413 8100 | J26: {=IFERROR(HYPERLINK(SUBSTITUTE(CELL( "adresse",INDIRECT(ADDRESS( 1,1,1,1,INDEX(Pump_Datasheet,MATCH(User_Techno&User_Disp,Pump_Techno&Pump_Disp,0)) )) ),"'",""), INDEX(Pump_Datasheet,MATCH(User_Techno&User_Disp,Pump_Techno&Pump_Disp,0))&" Datasheet"),"Not available")} -> Not available
B28: =INDEX(Translation,MATCH("Components",Tr_Index,0),MATCH(User_Language,Language,0)) -> Components
B29: =INDEX(Translation,MATCH("Ref",Tr_Index,0),MATCH(User_Language,Language,0)) -> Ref | C29: =INDEX(Translation,MATCH("Code",Tr_Index,0),MATCH(User_Language,Language,0)) -> Code | E29: =INDEX(Translation,MATCH("Check",Tr_Index,0),MATCH(User_Language,Language,0)) -> Check | F29: =INDEX(Translation,MATCH("Price Status",Tr_Index,0),MATCH(User_Language,Language,0)) -> Price Status | H29: =INDEX(Translation,MATCH("CB",Tr_Index,0),MATCH(User_Language,Language,0)) -> CB | I29: =INDEX(Translation,MATCH("Subs Price",Tr_Index,0),MATCH(User_Language,Language,0))&" ("&User_Currency&")" -> Subs Price (EUR) | J29: =INDEX(Translation,MATCH("Price List",Tr_Index,0),MATCH(User_Language,Language,0))&" ("&User_Currency&")" -> Price List (EUR)
B30: =INDEX(Translation,MATCH("Pump",Tr_Index,0),MATCH(User_Language,Language,0)) -> Pump | C30: {=IF(Test="YES",IFERROR(INDEX(Body_Code_Movex,MATCH(User_Techno&User_Disp&User_Mat&User_Foot,Body_Techno&Body_Disp&Body_Mat&Body_Foot,0)),"Do not exist"),"")} -> 1051760100/ | E30: =IF(AND(C30<>"Do not exist",F30<>"Obsolete"),"P","O") -> P | F30: =IFERROR(IF(C30<>"not used",IF(INDEX('Price&Delay'!$C:$C,MATCH(C30,'Price&Delay'!$A:$A,0))="","Not in MOVEX",IF(INDEX('Price&Delay'!$C:$C,MATCH(C30,'Price&Delay'!$A:$A,0))<>20,"Obsolete","Available")),"not used"),"Not on liste price") -> Available | H30: =IF(F30="Available",INDEX('Price&Delay'!$N:$N,MATCH('REXSON Pump configurator'!C30,'Price&Delay'!$A:$A,0)),IF(F30="not used",0,"-")) -> 45 | I30: =IF(F30="Available",ROUNDUP(INDEX('Price&Delay'!$H:$H,MATCH('REXSON Pump configurator'!C30,'Price&Delay'!$A:$A,0))*User_Coef,0),IF(F30="not used",0,"-")) -> 2026 | J30: =IF(F30="Available",ROUNDUP(INDEX('Price&Delay'!$I:$I,MATCH('REXSON Pump configurator'!C30,'Price&Delay'!$A:$A,0))*User_Coef,0),IF(F30="not used",0,"-")) -> 4502
B31: =INDEX(Translation,MATCH("Seals",Tr_Index,0),MATCH(User_Language,Language,0)) -> Seals | C31: {=IF(Test="YES",IFERROR(INDEX(Seal_Code_Movex,MATCH(User_Techno&User_Disp&User_Seal,Seal_Techno&Seal_Disp&Seal_Seal,0)),"Do not exist"),"")} -> 10632300/ | E31: =IF(AND(C31<>"Do not exist",F31<>"Obsolete"),"P","O") -> P | F31: =IFERROR(IF(C31<>"not used",IF(INDEX('Price&Delay'!$C:$C,MATCH(C31,'Price&Delay'!$A:$A,0))="","Not in MOVEX",IF(INDEX('Price&Delay'!$C:$C,MATCH(C31,'Price&Delay'!$A:$A,0))<>20,"Obsolete","Available")),"not used"),"Not on liste price") -> Available | H31: =IF(F31="Available",INDEX('Price&Delay'!$N:$N,MATCH('REXSON Pump configurator'!C31,'Price&Delay'!$A:$A,0)),IF(F31="not used",0,"-")) -> 5 | I31: =IF(F31="Available",ROUNDUP(INDEX('Price&Delay'!$H:$H,MATCH('REXSON Pump configurator'!C31,'Price&Delay'!$A:$A,0))*User_Coef,0),IF(F31="not used",0,"-")) -> 158 | J31: =IF(F31="Available",ROUNDUP(INDEX('Price&Delay'!$I:$I,MATCH('REXSON Pump configurator'!C31,'Price&Delay'!$A:$A,0))*User_Coef,0),IF(F31="not used",0,"-")) -> 351
B32: =INDEX(Translation,MATCH("Motor",Tr_Index,0),MATCH(User_Language,Language,0)) -> Motor | C32: {=IF(Test="YES",IFERROR(INDEX(Motor_Code_Movex,MATCH(User_Mot,Motor_Code,0)),"Do not exist"),"")} -> 846330000+ | E32: =IF(AND(C32<>"Do not exist",F32<>"Obsolete"),"P","O") -> P | F32: =IFERROR(IF(C32<>"not used",IF(INDEX('Price&Delay'!$C:$C,MATCH(C32,'Price&Delay'!$A:$A,0))="","Not in MOVEX",IF(INDEX('Price&Delay'!$C:$C,MATCH(C32,'Price&Delay'!$A:$A,0))<>20,"Obsolete","Available")),"not used"),"Not on liste price") -> Available | H32: =IF(F32="Available",INDEX('Price&Delay'!$N:$N,MATCH('REXSON Pump configurator'!C32,'Price&Delay'!$A:$A,0)),IF(F32="not used",0,"-")) -> 10 | I32: =IF(F32="Available",ROUNDUP(INDEX('Price&Delay'!$H:$H,MATCH('REXSON Pump configurator'!C32,'Price&Delay'!$A:$A,0))*User_Coef,0),IF(F32="not used",0,"-")) -> 1993 | J32: =IF(F32="Available",ROUNDUP(INDEX('Price&Delay'!$I:$I,MATCH('REXSON Pump configurator'!C32,'Price&Delay'!$A:$A,0))*User_Coef,0),IF(F32="not used",0,"-")) -> 4429
B33: =INDEX(Translation,MATCH("Flange",Tr_Index,0),MATCH(User_Language,Language,0)) -> Flange | C33: {=IF(Test="YES",IFERROR(INDEX(Flange_Code_Movex,MATCH(User_Techno&User_Disp&User_Mot,Flange_Techno&Flange_Disp&Flange_Motor,0)),"Do not exist"),"")} -> 844245493+ | E33: =IF(AND(C33<>"Do not exist",F33<>"Obsolete"),"P","O") -> P | F33: =IFERROR(IF(C33<>"not used",IF(INDEX('Price&Delay'!$C:$C,MATCH(C33,'Price&Delay'!$A:$A,0))="","Not in MOVEX",IF(INDEX('Price&Delay'!$C:$C,MATCH(C33,'Price&Delay'!$A:$A,0))<>20,"Obsolete","Available")),"not used"),"Not on liste price") -> Available | H33: =IF(F33="Available",INDEX('Price&Delay'!$N:$N,MATCH('REXSON Pump configurator'!C33,'Price&Delay'!$A:$A,0)),IF(F33="not used",0,"-")) -> 5 | I33: =IF(F33="Available",ROUNDUP(INDEX('Price&Delay'!$H:$H,MATCH('REXSON Pump configurator'!C33,'Price&Delay'!$A:$A,0))*User_Coef,0),IF(F33="not used",0,"-")) -> 262 | J33: =IF(F33="Available",ROUNDUP(INDEX('Price&Delay'!$I:$I,MATCH('REXSON Pump configurator'!C33,'Price&Delay'!$A:$A,0))*User_Coef,0),IF(F33="not used",0,"-")) -> 581
B34: =INDEX(Translation,MATCH("Sticker",Tr_Index,0),MATCH(User_Language,Language,0)) -> Sticker | C34: {=IF(Test="YES",IFERROR(INDEX(Flange_Sticker_Code_Movex,MATCH(User_Techno&User_Disp&User_Mot,Flange_Techno&Flange_Disp&Flange_Motor,0)),"Do not exist"),"")} -> 049020230+ | E34: =IF(AND(C34<>"Do not exist",F34<>"Obsolete"),"P","O") -> P | F34: =IFERROR(IF(C34<>"not used",IF(INDEX('Price&Delay'!$C:$C,MATCH(C34,'Price&Delay'!$A:$A,0))="","Not in MOVEX",IF(INDEX('Price&Delay'!$C:$C,MATCH(C34,'Price&Delay'!$A:$A,0))<>20,"Obsolete","Available")),"not used"),"Not on liste price") -> Available | H34: =IF(F34="Available",INDEX('Price&Delay'!$N:$N,MATCH('REXSON Pump configurator'!C34,'Price&Delay'!$A:$A,0)),IF(F34="not used",0,"-")) -> 5 | I34: =IF(F34="Available",ROUNDUP(INDEX('Price&Delay'!$H:$H,MATCH('REXSON Pump configurator'!C34,'Price&Delay'!$A:$A,0))*User_Coef,0),IF(F34="not used",0,"-")) -> 26 | J34: =IF(F34="Available",ROUNDUP(INDEX('Price&Delay'!$I:$I,MATCH('REXSON Pump configurator'!C34,'Price&Delay'!$A:$A,0))*User_Coef,0),IF(F34="not used",0,"-")) -> 58
B35: =INDEX(Translation,MATCH("Manual 1",Tr_Index,0),MATCH(User_Language,Language,0)) -> Manual 1 | C35: {=IF(Test="YES",IFERROR(INDEX(Flange_Manual,MATCH(User_Techno&User_Disp&User_Mot,Flange_Techno&Flange_Disp&Flange_Motor,0)),"Do not exist"),"")} -> 574150110+ | E35: =IF(C35<>"Do not exist","P","O") -> P | F35: =INDEX(Translation,MATCH("Assembly",Tr_Index,0),MATCH(User_Language,Language,0)) -> Assembly | I35: {=IF(Test="YES",INDEX(Pump_Assembly_Subs,MATCH(User_Techno&User_Disp,Pump_Techno&Pump_Disp,0))*User_Coef,"")} -> 219.5648 | J35: {=IF(Test="YES",INDEX(Pump_Assembly_Cust,MATCH(User_Techno&User_Disp,Pump_Techno&Pump_Disp,0))*User_Coef,"")} -> 487.92178
B36: =INDEX(Translation,MATCH("Manual 2",Tr_Index,0),MATCH(User_Language,Language,0)) -> Manual 2 | C36: {=IF(Test="YES",IFERROR(INDEX(Body_Manual,MATCH(User_Techno&User_Disp&User_Mat&User_Foot,Body_Techno&Body_Disp&Body_Mat&Body_Foot,0)),"Do not exist"),"")} -> 574233111+ | E36: =IF(C36<>"Do not exist","P","O") -> P | F36: =INDEX(Translation,MATCH("Packaging",Tr_Index,0),MATCH(User_Language,Language,0)) -> Packaging | I36: {=IF(Test="YES",INDEX(Pump_Package_Subs,MATCH(User_Techno&User_Disp,Pump_Techno&Pump_Disp,0))*User_Coef,"")} -> 94.0992 | J36: {=IF(Test="YES",INDEX(Pump_Package_Cust,MATCH(User_Techno&User_Disp,Pump_Techno&Pump_Disp,0))*User_Coef,"")} -> 209.10933
J37: V2.20 - 2026.09.08

Sheet Parameters
B1: List index | C1: Currency | D1: Currency conv | E1: Language
A2: Location | B2: 5 | C2: =INDEX(Country_Currency,B2) -> EUR | D2: =INDEX(Country_Coef,B2) -> 1 | E2: =INDEX(Country_Language,B2) -> GB
A4: Designation or configuration? | B4: 2
A5: Designation test | B5: Product Family | C5: Techno | D5: Disp | E5: Motor | F5: Mat | G5: Foot | H5: Seal | J5: {=INDEX( Flange_Techno, MATCH(User_Techno&User_Disp&E12,Flange_Techno&Flange_Disp&Flange_Motor,0)+1 ):INDEX(Flange_Techno,ROWS(Flange_Techno)) &INDEX( Flange_Disp, MATCH(User_Techno&User_Disp&E12,Flange_Techno&Flange_Disp&Flange_Motor,0)+1 ):INDEX(Flange_Disp,ROWS(Flange_Disp))} -> 2B0588
A6: {=IF(OR(B6:H6="ERROR"),"NOT VALIDE","VALIDE")} -> VALIDE | B6: =IF(LEFT(Designation,3)="REX","REX","ERROR") -> REX | C6: =IFERROR(INDEX(Techno_Code,MATCH(MID(Designation,4,2),Techno_Code,0)),"ERROR") -> 2B | D6: =IFERROR(INDEX(Disp_Code,MATCH(MID(Designation,6,4),Disp_Code,0)),"ERROR") -> 0588 | E6: =IFERROR(INDEX(Motor_Code,MATCH(MID(Designation,11,2),Motor_Code,0)),"ERROR") -> 70 | F6: =IFERROR(INDEX(Mat_Code,MATCH(MID(Designation,14,2),Mat_Code,0)),"ERROR") -> CS | G6: =IFERROR(INDEX(Foot_Code,MATCH(MID(Designation,17,2),Foot_Code,0)),"ERROR") -> WM | H6: =IFERROR(INDEX(Seal_Code,MATCH(MID(Designation,20,2),Seal_Code,0)),"ERROR") -> 03
A8: Techno | C8: Displacement | E8: Motor | G8: Material | I8: Foot | K8: Seal
A9: Choice | B9: 2 | C9: Choice | D9: 8 | E9: Choice | F9: 3 | G9: Choice | H9: 1 | I9: Choice | J9: 2 | K9: Choice | L9: 2
A10: Code | B10: Descr | C10: Code | D10: Descr | E10: Code | F10: Descr | G10: Code | H10: Descr | I10: Code | J10: Descr | K10: Code | L10: Descr
A11: =Dictionnary!A3 -> 2B | B11: =Dictionnary!C3 -> HV 2-Ball Pumps | C11: =IFERROR(INDEX(Pump_Disp,MATCH(User_Techno,Pump_Techno,0),0),"") -> 0079 | D11: {=IFERROR(INDEX(Pump_Description,MATCH(User_Techno&C11,Pump_Techno&Pump_Disp,0)),"")} -> 79 cc | E11: {=IFERROR(INDEX(Flange_Motor,MATCH(User_Techno&User_Disp,Flange_Techno&Flange_Disp,0),0),"")} -> XX | F11: =IFERROR(INDEX(Motor_Descr, MATCH(E11,Motor_Code,0)),"") -> No Motor | G11: {=IFERROR(INDEX(Mat_Mat,MATCH(User_Techno&User_Disp,Mat_Techno&Mat_Disp,0),0),"")} -> CS | H11: =IFERROR(INDEX(Mat_Descr, MATCH(G11,Mat_Code,0)),"") -> Mixed Steels | I11: {=IFERROR(INDEX(Body_Foot,MATCH(User_Techno&User_Disp&User_Mat,Body_Techno&Body_Disp&Body_Mat,0),0),"")} -> WM | J11: {=IFERROR(INDEX(Body_Foot_Descr,MATCH(User_Techno&User_Disp&User_Mat,Body_Techno&Body_Disp&Body_Mat,0),0),"")} -> wall mounted (F BSPP 1''1/2 & M 105x2) | K11: {=IFERROR(INDEX(Seal_Seal,MATCH(User_Techno&User_Disp,Seal_Techno&Seal_Disp,0),0),"")} -> 01 | L11: {=IFERROR(INDEX(Seal_Descr,MATCH(User_Techno&User_Disp,Seal_Techno&Seal_Disp,0),0),"")} -> PTFE (FKM)
A12: =Dictionnary!A4 -> SH | B12: =Dictionnary!C4 -> HV Shovel Pumps | C12: {=IFERROR(INDEX(Pump_Disp,MATCH(User_Techno,INDEX(Pump_Techno,MATCH(User_Techno&C11,Pump_Techno&Pump_Disp,0)+1):INDEX(Pump_Techno,ROWS(Pump_Techno)),0)+MATCH(User_Techno&C11,Pump_Techno&Pump_Disp,0),0),"")} -> 0124 | D12: {=IFERROR(INDEX(Pump_Description,MATCH(User_Techno&C12,Pump_Techno&Pump_Disp,0)),"")} -> 124 cc | E12: {=IFERROR( INDEX(Flange_Motor, MATCH( User_Techno&User_Disp, INDEX( Flange_Techno, MATCH(User_Techno&User_Disp&E11,Flange_Techno&Flange_Disp&Flange_Motor,0)+1 ):INDEX(Flange_Techno,ROWS(Flange_Techno)) &INDEX( Flange_Disp, MATCH(User_Techno&User_Disp&E11,Flange_Techno&Flange_Disp&Flange_Motor,0)+1 ):INDEX(Flange_Disp,ROWS(Flange_Disp)),0) +MATCH(User_Techno&User_Disp&E11,Flange_Techno&Flange_Disp&Flange_Motor,0)), "")} -> 60 | F12: =IFERROR(INDEX(Motor_Descr, MATCH(E12,Motor_Code,0)),"") -> Motor 6000 | G12: {=IFERROR( INDEX(Mat_Mat, MATCH( User_Techno&User_Disp, INDEX( Mat_Techno, MATCH(User_Techno&User_Disp&G11,Mat_Techno&Mat_Disp&Mat_Mat,0)+1 ):INDEX(Mat_Techno,ROWS(Mat_Techno)) &INDEX( Mat_Disp, MATCH(User_Techno&User_Disp&G11,Mat_Techno&Mat_Disp&Mat_Mat,0)+1 ):INDEX(Mat_Disp,ROWS(Mat_Disp)),0) +MATCH(User_Techno&User_Disp&G11,Mat_Techno&Mat_Disp&Mat_Mat,0)), "")} -> SS | H12: =IFERROR(INDEX(Mat_Descr, MATCH(G12,Mat_Code,0)),"") -> Stainless Steel | I12: {=IFERROR( INDEX(Body_Foot, MATCH( User_Techno&User_Disp&User_Mat, INDEX( Body_Techno, MATCH(User_Techno&User_Disp&User_Mat&I11,Body_Techno&Body_Disp&Body_Mat&Body_Foot,0)+1 ):INDEX(Body_Techno,ROWS(Body_Techno)) &INDEX( Body_Disp, MATCH(User_Techno&User_Disp&User_Mat&I11,Body_Techno&Body_Disp&Body_Mat&Body_Foot,0)+1 ):INDEX(Body_Disp,ROWS(Body_Disp)) &INDEX( Body_Mat, MATCH(User_Techno&User_Disp&User_Mat&I11,Body_Techno&Body_Disp&Body_Mat&Body_Foot,0)+1 ):INDEX(Body_Mat,ROWS(Body_Mat)),0) +MATCH(User_Techno&User_Disp&User_Mat&I11,Body_Techno&Body_Disp&Body_Mat&Body_Foot,0)), "")} -> FP | J12: {=IFERROR( INDEX(Body_Foot_Descr, MATCH( User_Techno&User_Disp&User_Mat, INDEX( Body_Techno, MATCH(User_Techno&User_Disp&User_Mat&I11,Body_Techno&Body_Disp&Body_Mat&Body_Foot,0)+1 ):INDEX(Body_Techno,ROWS(Body_Techno)) &INDEX( Body_Disp, MATCH(User_Techno&User_Disp&User_Mat&I11,Body_Techno&Body_Disp&Body_Mat&Body_Foot,0)+1 ):INDEX(Body_Disp,ROWS(Body_Disp)) &INDEX( Body_Mat, MATCH(User_Techno&User_Disp&User_Mat&I11,Body_Techno&Body_Disp&Body_Mat&Body_Foot,0)+1 ):INDEX(Body_Mat,ROWS(Body_Mat)),0) +MATCH(User_Techno&User_Disp&User_Mat&I11,Body_Techno&Body_Disp&Body_Mat&Body_Foot,0)), "")} -> follower plate Ø105 | K12: {=IFERROR( INDEX(Seal_Seal, MATCH( User_Techno&User_Disp, INDEX( Seal_Techno, MATCH(User_Techno&User_Disp&K11,Seal_Techno&Seal_Disp&Seal_Seal,0)+1 ):INDEX(Seal_Techno,ROWS(Seal_Techno)) &INDEX( Seal_Disp, MATCH(User_Techno&User_Disp&K11,Seal_Techno&Seal_Disp&Seal_Seal,0)+1 ):INDEX(Seal_Disp,ROWS(Seal_Disp)),0) +MATCH(User_Techno&User_Disp&K11,Seal_Techno&Seal_Disp&Seal_Seal,0)), "")} -> 02 | L12: {=IFERROR( INDEX(Seal_Descr, MATCH( User_Techno&User_Disp, INDEX( Seal_Techno, MATCH(User_Techno&User_Disp&K11,Seal_Techno&Seal_Disp&Seal_Seal,0)+1 ):INDEX(Seal_Techno,ROWS(Seal_Techno)) &INDEX( Seal_Disp, MATCH(User_Techno&User_Disp&K11,Seal_Techno&Seal_Disp&Seal_Seal,0)+1 ):INDEX(Seal_Disp,ROWS(Seal_Disp)),0) +MATCH(User_Techno&User_Disp&K11,Seal_Techno&Seal_Disp&Seal_Seal,0)), "")} -> PTFE (FEP)
A13: =Dictionnary!A5 -> 4B | B13: =Dictionnary!C5 -> HV & Low Pressure 4-Ball Pumps | C13: {=IFERROR(INDEX(Pump_Disp,MATCH(User_Techno,INDEX(Pump_Techno,MATCH(User_Techno&C12,Pump_Techno&Pump_Disp,0)+1):INDEX(Pump_Techno,ROWS(Pump_Techno)),0)+MATCH(User_Techno&C12,Pump_Techno&Pump_Disp,0),0),"")} -> 0225 | D13: {=IFERROR(INDEX(Pump_Description,MATCH(User_Techno&C13,Pump_Techno&Pump_Disp,0)),"")} -> 225 cc | E13: {=IFERROR( INDEX(Flange_Motor, MATCH( User_Techno&User_Disp, INDEX( Flange_Techno, MATCH(User_Techno&User_Disp&E12,Flange_Techno&Flange_Disp&Flange_Motor,0)+1 ):INDEX(Flange_Techno,ROWS(Flange_Techno)) &INDEX( Flange_Disp, MATCH(User_Techno&User_Disp&E12,Flange_Techno&Flange_Disp&Flange_Motor,0)+1 ):INDEX(Flange_Disp,ROWS(Flange_Disp)),0) +MATCH(User_Techno&User_Disp&E12,Flange_Techno&Flange_Disp&Flange_Motor,0)), "")} -> 70 | F13: =IFERROR(INDEX(Motor_Descr, MATCH(E13,Motor_Code,0)),"") -> Motor 7000 | G13: {=IFERROR( INDEX(Mat_Mat, MATCH( User_Techno&User_Disp, INDEX( Mat_Techno, MATCH(User_Techno&User_Disp&G12,Mat_Techno&Mat_Disp&Mat_Mat,0)+1 ):INDEX(Mat_Techno,ROWS(Mat_Techno)) &INDEX( Mat_Disp, MATCH(User_Techno&User_Disp&G12,Mat_Techno&Mat_Disp&Mat_Mat,0)+1 ):INDEX(Mat_Disp,ROWS(Mat_Disp)),0) +MATCH(User_Techno&User_Disp&G12,Mat_Techno&Mat_Disp&Mat_Mat,0)), "")} -> CC | H13: =IFERROR(INDEX(Mat_Descr, MATCH(G13,Mat_Code,0)),"") -> Mixed steels + Carbide Valves | I13: {=IFERROR( INDEX(Body_Foot, MATCH( User_Techno&User_Disp&User_Mat, INDEX( Body_Techno, MATCH(User_Techno&User_Disp&User_Mat&I12,Body_Techno&Body_Disp&Body_Mat&Body_Foot,0)+1 ):INDEX(Body_Techno,ROWS(Body_Techno)) &INDEX( Body_Disp, MATCH(User_Techno&User_Disp&User_Mat&I12,Body_Techno&Body_Disp&Body_Mat&Body_Foot,0)+1 ):INDEX(Body_Disp,ROWS(Body_Disp)) &INDEX( Body_Mat, MATCH(User_Techno&User_Disp&User_Mat&I12,Body_Techno&Body_Disp&Body_Mat&Body_Foot,0)+1 ):INDEX(Body_Mat,ROWS(Body_Mat)),0) +MATCH(User_Techno&User_Disp&User_Mat&I12,Body_Techno&Body_Disp&Body_Mat&Body_Foot,0)), "")} | J13: {=IFERROR( INDEX(Body_Foot_Descr, MATCH( User_Techno&User_Disp&User_Mat, INDEX( Body_Techno, MATCH(User_Techno&User_Disp&User_Mat&I12,Body_Techno&Body_Disp&Body_Mat&Body_Foot,0)+1 ):INDEX(Body_Techno,ROWS(Body_Techno)) &INDEX( Body_Disp, MATCH(User_Techno&User_Disp&User_Mat&I12,Body_Techno&Body_Disp&Body_Mat&Body_Foot,0)+1 ):INDEX(Body_Disp,ROWS(Body_Disp)) &INDEX( Body_Mat, MATCH(User_Techno&User_Disp&User_Mat&I12,Body_Techno&Body_Disp&Body_Mat&Body_Foot,0)+1 ):INDEX(Body_Mat,ROWS(Body_Mat)),0) +MATCH(User_Techno&User_Disp&User_Mat&I12,Body_Techno&Body_Disp&Body_Mat&Body_Foot,0)), "")} | K13: {=IFERROR( INDEX(Seal_Seal, MATCH( User_Techno&User_Disp, INDEX( Seal_Techno, MATCH(User_Techno&User_Disp&K12,Seal_Techno&Seal_Disp&Seal_Seal,0)+1 ):INDEX(Seal_Techno,ROWS(Seal_Techno)) &INDEX( Seal_Disp, MATCH(User_Techno&User_Disp&K12,Seal_Techno&Seal_Disp&Seal_Seal,0)+1 ):INDEX(Seal_Disp,ROWS(Seal_Disp)),0) +MATCH(User_Techno&User_Disp&K12,Seal_Techno&Seal_Disp&Seal_Seal,0)), "")} -> 03 | L13: {=IFERROR( INDEX(Seal_Descr, MATCH( User_Techno&User_Disp, INDEX( Seal_Techno, MATCH(User_Techno&User_Disp&K12,Seal_Techno&Seal_Disp&Seal_Seal,0)+1 ):INDEX(Seal_Techno,ROWS(Seal_Techno)) &INDEX( Seal_Disp, MATCH(User_Techno&User_Disp&K12,Seal_Techno&Seal_Disp&Seal_Seal,0)+1 ):INDEX(Seal_Disp,ROWS(Seal_Disp)),0) +MATCH(User_Techno&User_Disp&K12,Seal_Techno&Seal_Disp&Seal_Seal,0)), "")} -> PTFE/PE (FKM)
C14: {=IFERROR(INDEX(Pump_Disp,MATCH(User_Techno,INDEX(Pump_Techno,MATCH(User_Techno&C13,Pump_Techno&Pump_Disp,0)+1):INDEX(Pump_Techno,ROWS(Pump_Techno)),0)+MATCH(User_Techno&C13,Pump_Techno&Pump_Disp,0),0),"")} -> 0227 | D14: {=IFERROR(INDEX(Pump_Description,MATCH(User_Techno&C14,Pump_Techno&Pump_Disp,0)),"")} -> 227 cc | E14: {=IFERROR( INDEX(Flange_Motor, MATCH( User_Techno&User_Disp, INDEX( Flange_Techno, MATCH(User_Techno&User_Disp&E13,Flange_Techno&Flange_Disp&Flange_Motor,0)+1 ):INDEX(Flange_Techno,ROWS(Flange_Techno)) &INDEX( Flange_Disp, MATCH(User_Techno&User_Disp&E13,Flange_Techno&Flange_Disp&Flange_Motor,0)+1 ):INDEX(Flange_Disp,ROWS(Flange_Disp)),0) +MATCH(User_Techno&User_Disp&E13,Flange_Techno&Flange_Disp&Flange_Motor,0)), "")} -> 90 | F14: =IFERROR(INDEX(Motor_Descr, MATCH(E14,Motor_Code,0)),"") -> Motor 9000 | G14: {=IFERROR( INDEX(Mat_Mat, MATCH( User_Techno&User_Disp, INDEX( Mat_Techno, MATCH(User_Techno&User_Disp&G13,Mat_Techno&Mat_Disp&Mat_Mat,0)+1 ):INDEX(Mat_Techno,ROWS(Mat_Techno)) &INDEX( Mat_Disp, MATCH(User_Techno&User_Disp&G13,Mat_Techno&Mat_Disp&Mat_Mat,0)+1 ):INDEX(Mat_Disp,ROWS(Mat_Disp)),0) +MATCH(User_Techno&User_Disp&G13,Mat_Techno&Mat_Disp&Mat_Mat,0)), "")} -> SC | H14: =IFERROR(INDEX(Mat_Descr, MATCH(G14,Mat_Code,0)),"") -> Stainless steel + Carbide Valves | I14: {=IFERROR( INDEX(Body_Foot, MATCH( User_Techno&User_Disp&User_Mat, INDEX( Body_Techno, MATCH(User_Techno&User_Disp&User_Mat&I13,Body_Techno&Body_Disp&Body_Mat&Body_Foot,0)+1 ):INDEX(Body_Techno,ROWS(Body_Techno)) &INDEX( Body_Disp, MATCH(User_Techno&User_Disp&User_Mat&I13,Body_Techno&Body_Disp&Body_Mat&Body_Foot,0)+1 ):INDEX(Body_Disp,ROWS(Body_Disp)) &INDEX( Body_Mat, MATCH(User_Techno&User_Disp&User_Mat&I13,Body_Techno&Body_Disp&Body_Mat&Body_Foot,0)+1 ):INDEX(Body_Mat,ROWS(Body_Mat)),0) +MATCH(User_Techno&User_Disp&User_Mat&I13,Body_Techno&Body_Disp&Body_Mat&Body_Foot,0)), "")} | J14: {=IFERROR( INDEX(Body_Foot_Descr, MATCH( User_Techno&User_Disp&User_Mat, INDEX( Body_Techno, MATCH(User_Techno&User_Disp&User_Mat&I13,Body_Techno&Body_Disp&Body_Mat&Body_Foot,0)+1 ):INDEX(Body_Techno,ROWS(Body_Techno)) &INDEX( Body_Disp, MATCH(User_Techno&User_Disp&User_Mat&I13,Body_Techno&Body_Disp&Body_Mat&Body_Foot,0)+1 ):INDEX(Body_Disp,ROWS(Body_Disp)) &INDEX( Body_Mat, MATCH(User_Techno&User_Disp&User_Mat&I13,Body_Techno&Body_Disp&Body_Mat&Body_Foot,0)+1 ):INDEX(Body_Mat,ROWS(Body_Mat)),0) +MATCH(User_Techno&User_Disp&User_Mat&I13,Body_Techno&Body_Disp&Body_Mat&Body_Foot,0)), "")} | K14: {=IFERROR( INDEX(Seal_Seal, MATCH( User_Techno&User_Disp, INDEX( Seal_Techno, MATCH(User_Techno&User_Disp&K13,Seal_Techno&Seal_Disp&Seal_Seal,0)+1 ):INDEX(Seal_Techno,ROWS(Seal_Techno)) &INDEX( Seal_Disp, MATCH(User_Techno&User_Disp&K13,Seal_Techno&Seal_Disp&Seal_Seal,0)+1 ):INDEX(Seal_Disp,ROWS(Seal_Disp)),0) +MATCH(User_Techno&User_Disp&K13,Seal_Techno&Seal_Disp&Seal_Seal,0)), "")} -> 04 | L14: {=IFERROR( INDEX(Seal_Descr, MATCH( User_Techno&User_Disp, INDEX( Seal_Techno, MATCH(User_Techno&User_Disp&K13,Seal_Techno&Seal_Disp&Seal_Seal,0)+1 ):INDEX(Seal_Techno,ROWS(Seal_Techno)) &INDEX( Seal_Disp, MATCH(User_Techno&User_Disp&K13,Seal_Techno&Seal_Disp&Seal_Seal,0)+1 ):INDEX(Seal_Disp,ROWS(Seal_Disp)),0) +MATCH(User_Techno&User_Disp&K13,Seal_Techno&Seal_Disp&Seal_Seal,0)), "")} -> Leather (FKM)
C15: {=IFERROR(INDEX(Pump_Disp,MATCH(User_Techno,INDEX(Pump_Techno,MATCH(User_Techno&C14,Pump_Techno&Pump_Disp,0)+1):INDEX(Pump_Techno,ROWS(Pump_Techno)),0)+MATCH(User_Techno&C14,Pump_Techno&Pump_Disp,0),0),"")} -> 0360 | D15: {=IFERROR(INDEX(Pump_Description,MATCH(User_Techno&C15,Pump_Techno&Pump_Disp,0)),"")} -> 360 cc | E15: {=IFERROR( INDEX(Flange_Motor, MATCH( User_Techno&User_Disp, INDEX( Flange_Techno, MATCH(User_Techno&User_Disp&E14,Flange_Techno&Flange_Disp&Flange_Motor,0)+1 ):INDEX(Flange_Techno,ROWS(Flange_Techno)) &INDEX( Flange_Disp, MATCH(User_Techno&User_Disp&E14,Flange_Techno&Flange_Disp&Flange_Motor,0)+1 ):INDEX(Flange_Disp,ROWS(Flange_Disp)),0) +MATCH(User_Techno&User_Disp&E14,Flange_Techno&Flange_Disp&Flange_Motor,0)), "")} | F15: =IFERROR(INDEX(Motor_Descr, MATCH(E15,Motor_Code,0)),"") | G15: {=IFERROR( INDEX(Mat_Mat, MATCH( User_Techno&User_Disp, INDEX( Mat_Techno, MATCH(User_Techno&User_Disp&G14,Mat_Techno&Mat_Disp&Mat_Mat,0)+1 ):INDEX(Mat_Techno,ROWS(Mat_Techno)) &INDEX( Mat_Disp, MATCH(User_Techno&User_Disp&G14,Mat_Techno&Mat_Disp&Mat_Mat,0)+1 ):INDEX(Mat_Disp,ROWS(Mat_Disp)),0) +MATCH(User_Techno&User_Disp&G14,Mat_Techno&Mat_Disp&Mat_Mat,0)), "")} | H15: =IFERROR(INDEX(Mat_Descr, MATCH(G15,Mat_Code,0)),"") | I15: {=IFERROR( INDEX(Body_Foot, MATCH( User_Techno&User_Disp&User_Mat, INDEX( Body_Techno, MATCH(User_Techno&User_Disp&User_Mat&I14,Body_Techno&Body_Disp&Body_Mat&Body_Foot,0)+1 ):INDEX(Body_Techno,ROWS(Body_Techno)) &INDEX( Body_Disp, MATCH(User_Techno&User_Disp&User_Mat&I14,Body_Techno&Body_Disp&Body_Mat&Body_Foot,0)+1 ):INDEX(Body_Disp,ROWS(Body_Disp)) &INDEX( Body_Mat, MATCH(User_Techno&User_Disp&User_Mat&I14,Body_Techno&Body_Disp&Body_Mat&Body_Foot,0)+1 ):INDEX(Body_Mat,ROWS(Body_Mat)),0) +MATCH(User_Techno&User_Disp&User_Mat&I14,Body_Techno&Body_Disp&Body_Mat&Body_Foot,0)), "")} | J15: {=IFERROR( INDEX(Body_Foot_Descr, MATCH( User_Techno&User_Disp&User_Mat, INDEX( Body_Techno, MATCH(User_Techno&User_Disp&User_Mat&I14,Body_Techno&Body_Disp&Body_Mat&Body_Foot,0)+1 ):INDEX(Body_Techno,ROWS(Body_Techno)) &INDEX( Body_Disp, MATCH(User_Techno&User_Disp&User_Mat&I14,Body_Techno&Body_Disp&Body_Mat&Body_Foot,0)+1 ):INDEX(Body_Disp,ROWS(Body_Disp)) &INDEX( Body_Mat, MATCH(User_Techno&User_Disp&User_Mat&I14,Body_Techno&Body_Disp&Body_Mat&Body_Foot,0)+1 ):INDEX(Body_Mat,ROWS(Body_Mat)),0) +MATCH(User_Techno&User_Disp&User_Mat&I14,Body_Techno&Body_Disp&Body_Mat&Body_Foot,0)), "")} | K15: {=IFERROR( INDEX(Seal_Seal, MATCH( User_Techno&User_Disp, INDEX( Seal_Techno, MATCH(User_Techno&User_Disp&K14,Seal_Techno&Seal_Disp&Seal_Seal,0)+1 ):INDEX(Seal_Techno,ROWS(Seal_Techno)) &INDEX( Seal_Disp, MATCH(User_Techno&User_Disp&K14,Seal_Techno&Seal_Disp&Seal_Seal,0)+1 ):INDEX(Seal_Disp,ROWS(Seal_Disp)),0) +MATCH(User_Techno&User_Disp&K14,Seal_Techno&Seal_Disp&Seal_Seal,0)), "")} -> 05 | L15: {=IFERROR( INDEX(Seal_Descr, MATCH( User_Techno&User_Disp, INDEX( Seal_Techno, MATCH(User_Techno&User_Disp&K14,Seal_Techno&Seal_Disp&Seal_Seal,0)+1 ):INDEX(Seal_Techno,ROWS(Seal_Techno)) &INDEX( Seal_Disp, MATCH(User_Techno&User_Disp&K14,Seal_Techno&Seal_Disp&Seal_Seal,0)+1 ):INDEX(Seal_Disp,ROWS(Seal_Disp)),0) +MATCH(User_Techno&User_Disp&K14,Seal_Techno&Seal_Disp&Seal_Seal,0)), "")} -> PTFEG (FKM)
C16: {=IFERROR(INDEX(Pump_Disp,MATCH(User_Techno,INDEX(Pump_Techno,MATCH(User_Techno&C15,Pump_Techno&Pump_Disp,0)+1):INDEX(Pump_Techno,ROWS(Pump_Techno)),0)+MATCH(User_Techno&C15,Pump_Techno&Pump_Disp,0),0),"")} -> 0453 | D16: {=IFERROR(INDEX(Pump_Description,MATCH(User_Techno&C16,Pump_Techno&Pump_Disp,0)),"")} -> 453 cc | E16: {=IFERROR( INDEX(Flange_Motor, MATCH( User_Techno&User_Disp, INDEX( Flange_Techno, MATCH(User_Techno&User_Disp&E15,Flange_Techno&Flange_Disp&Flange_Motor,0)+1 ):INDEX(Flange_Techno,ROWS(Flange_Techno)) &INDEX( Flange_Disp, MATCH(User_Techno&User_Disp&E15,Flange_Techno&Flange_Disp&Flange_Motor,0)+1 ):INDEX(Flange_Disp,ROWS(Flange_Disp)),0) +MATCH(User_Techno&User_Disp&E15,Flange_Techno&Flange_Disp&Flange_Motor,0)), "")} | F16: =IFERROR(INDEX(Motor_Descr, MATCH(E16,Motor_Code,0)),"") | G16: {=IFERROR( INDEX(Mat_Mat, MATCH( User_Techno&User_Disp, INDEX( Mat_Techno, MATCH(User_Techno&User_Disp&G15,Mat_Techno&Mat_Disp&Mat_Mat,0)+1 ):INDEX(Mat_Techno,ROWS(Mat_Techno)) &INDEX( Mat_Disp, MATCH(User_Techno&User_Disp&G15,Mat_Techno&Mat_Disp&Mat_Mat,0)+1 ):INDEX(Mat_Disp,ROWS(Mat_Disp)),0) +MATCH(User_Techno&User_Disp&G15,Mat_Techno&Mat_Disp&Mat_Mat,0)), "")} | H16: =IFERROR(INDEX(Mat_Descr, MATCH(G16,Mat_Code,0)),"") | I16: {=IFERROR( INDEX(Body_Foot, MATCH( User_Techno&User_Disp&User_Mat, INDEX( Body_Techno, MATCH(User_Techno&User_Disp&User_Mat&I15,Body_Techno&Body_Disp&Body_Mat&Body_Foot,0)+1 ):INDEX(Body_Techno,ROWS(Body_Techno)) &INDEX( Body_Disp, MATCH(User_Techno&User_Disp&User_Mat&I15,Body_Techno&Body_Disp&Body_Mat&Body_Foot,0)+1 ):INDEX(Body_Disp,ROWS(Body_Disp)) &INDEX( Body_Mat, MATCH(User_Techno&User_Disp&User_Mat&I15,Body_Techno&Body_Disp&Body_Mat&Body_Foot,0)+1 ):INDEX(Body_Mat,ROWS(Body_Mat)),0) +MATCH(User_Techno&User_Disp&User_Mat&I15,Body_Techno&Body_Disp&Body_Mat&Body_Foot,0)), "")} | J16: {=IFERROR( INDEX(Body_Foot_Descr, MATCH( User_Techno&User_Disp&User_Mat, INDEX( Body_Techno, MATCH(User_Techno&User_Disp&User_Mat&I15,Body_Techno&Body_Disp&Body_Mat&Body_Foot,0)+1 ):INDEX(Body_Techno,ROWS(Body_Techno)) &INDEX( Body_Disp, MATCH(User_Techno&User_Disp&User_Mat&I15,Body_Techno&Body_Disp&Body_Mat&Body_Foot,0)+1 ):INDEX(Body_Disp,ROWS(Body_Disp)) &INDEX( Body_Mat, MATCH(User_Techno&User_Disp&User_Mat&I15,Body_Techno&Body_Disp&Body_Mat&Body_Foot,0)+1 ):INDEX(Body_Mat,ROWS(Body_Mat)),0) +MATCH(User_Techno&User_Disp&User_Mat&I15,Body_Techno&Body_Disp&Body_Mat&Body_Foot,0)), "")} | K16: {=IFERROR( INDEX(Seal_Seal, MATCH( User_Techno&User_Disp, INDEX( Seal_Techno, MATCH(User_Techno&User_Disp&K15,Seal_Techno&Seal_Disp&Seal_Seal,0)+1 ):INDEX(Seal_Techno,ROWS(Seal_Techno)) &INDEX( Seal_Disp, MATCH(User_Techno&User_Disp&K15,Seal_Techno&Seal_Disp&Seal_Seal,0)+1 ):INDEX(Seal_Disp,ROWS(Seal_Disp)),0) +MATCH(User_Techno&User_Disp&K15,Seal_Techno&Seal_Disp&Seal_Seal,0)), "")} -> 06 | L16: {=IFERROR( INDEX(Seal_Descr, MATCH( User_Techno&User_Disp, INDEX( Seal_Techno, MATCH(User_Techno&User_Disp&K15,Seal_Techno&Seal_Disp&Seal_Seal,0)+1 ):INDEX(Seal_Techno,ROWS(Seal_Techno)) &INDEX( Seal_Disp, MATCH(User_Techno&User_Disp&K15,Seal_Techno&Seal_Disp&Seal_Seal,0)+1 ):INDEX(Seal_Disp,ROWS(Seal_Disp)),0) +MATCH(User_Techno&User_Disp&K15,Seal_Techno&Seal_Disp&Seal_Seal,0)), "")} -> PU (FKM)
C17: {=IFERROR(INDEX(Pump_Disp,MATCH(User_Techno,INDEX(Pump_Techno,MATCH(User_Techno&C16,Pump_Techno&Pump_Disp,0)+1):INDEX(Pump_Techno,ROWS(Pump_Techno)),0)+MATCH(User_Techno&C16,Pump_Techno&Pump_Disp,0),0),"")} -> 0588 | D17: {=IFERROR(INDEX(Pump_Description,MATCH(User_Techno&C17,Pump_Techno&Pump_Disp,0)),"")} -> 588 cc | E17: {=IFERROR( INDEX(Flange_Motor, MATCH( User_Techno&User_Disp, INDEX( Flange_Techno, MATCH(User_Techno&User_Disp&E16,Flange_Techno&Flange_Disp&Flange_Motor,0)+1 ):INDEX(Flange_Techno,ROWS(Flange_Techno)) &INDEX( Flange_Disp, MATCH(User_Techno&User_Disp&E16,Flange_Techno&Flange_Disp&Flange_Motor,0)+1 ):INDEX(Flange_Disp,ROWS(Flange_Disp)),0) +MATCH(User_Techno&User_Disp&E16,Flange_Techno&Flange_Disp&Flange_Motor,0)), "")} | F17: =IFERROR(INDEX(Motor_Descr, MATCH(E17,Motor_Code,0)),"") | G17: {=IFERROR( INDEX(Mat_Mat, MATCH( User_Techno&User_Disp, INDEX( Mat_Techno, MATCH(User_Techno&User_Disp&G16,Mat_Techno&Mat_Disp&Mat_Mat,0)+1 ):INDEX(Mat_Techno,ROWS(Mat_Techno)) &INDEX( Mat_Disp, MATCH(User_Techno&User_Disp&G16,Mat_Techno&Mat_Disp&Mat_Mat,0)+1 ):INDEX(Mat_Disp,ROWS(Mat_Disp)),0) +MATCH(User_Techno&User_Disp&G16,Mat_Techno&Mat_Disp&Mat_Mat,0)), "")} | K17: {=IFERROR( INDEX(Seal_Seal, MATCH( User_Techno&User_Disp, INDEX( Seal_Techno, MATCH(User_Techno&User_Disp&K16,Seal_Techno&Seal_Disp&Seal_Seal,0)+1 ):INDEX(Seal_Techno,ROWS(Seal_Techno)) &INDEX( Seal_Disp, MATCH(User_Techno&User_Disp&K16,Seal_Techno&Seal_Disp&Seal_Seal,0)+1 ):INDEX(Seal_Disp,ROWS(Seal_Disp)),0) +MATCH(User_Techno&User_Disp&K16,Seal_Techno&Seal_Disp&Seal_Seal,0)), "")} -> 07 | L17: {=IFERROR( INDEX(Seal_Descr, MATCH( User_Techno&User_Disp, INDEX( Seal_Techno, MATCH(User_Techno&User_Disp&K16,Seal_Techno&Seal_Disp&Seal_Seal,0)+1 ):INDEX(Seal_Techno,ROWS(Seal_Techno)) &INDEX( Seal_Disp, MATCH(User_Techno&User_Disp&K16,Seal_Techno&Seal_Disp&Seal_Seal,0)+1 ):INDEX(Seal_Disp,ROWS(Seal_Disp)),0) +MATCH(User_Techno&User_Disp&K16,Seal_Techno&Seal_Disp&Seal_Seal,0)), "")} -> PU/PTFEV (FKM)
C18: {=IFERROR(INDEX(Pump_Disp,MATCH(User_Techno,INDEX(Pump_Techno,MATCH(User_Techno&C17,Pump_Techno&Pump_Disp,0)+1):INDEX(Pump_Techno,ROWS(Pump_Techno)),0)+MATCH(User_Techno&C17,Pump_Techno&Pump_Disp,0),0),"")} -> 0750 | D18: {=IFERROR(INDEX(Pump_Description,MATCH(User_Techno&C18,Pump_Techno&Pump_Disp,0)),"")} -> 750 cc | E18: {=IFERROR( INDEX(Flange_Motor, MATCH( User_Techno&User_Disp, INDEX( Flange_Techno, MATCH(User_Techno&User_Disp&E17,Flange_Techno&Flange_Disp&Flange_Motor,0)+1 ):INDEX(Flange_Techno,ROWS(Flange_Techno)) &INDEX( Flange_Disp, MATCH(User_Techno&User_Disp&E17,Flange_Techno&Flange_Disp&Flange_Motor,0)+1 ):INDEX(Flange_Disp,ROWS(Flange_Disp)),0) +MATCH(User_Techno&User_Disp&E17,Flange_Techno&Flange_Disp&Flange_Motor,0)), "")} | F18: =IFERROR(INDEX(Motor_Descr, MATCH(E18,Motor_Code,0)),"") | G18: {=IFERROR( INDEX(Mat_Mat, MATCH( User_Techno&User_Disp, INDEX( Mat_Techno, MATCH(User_Techno&User_Disp&G17,Mat_Techno&Mat_Disp&Mat_Mat,0)+1 ):INDEX(Mat_Techno,ROWS(Mat_Techno)) &INDEX( Mat_Disp, MATCH(User_Techno&User_Disp&G17,Mat_Techno&Mat_Disp&Mat_Mat,0)+1 ):INDEX(Mat_Disp,ROWS(Mat_Disp)),0) +MATCH(User_Techno&User_Disp&G17,Mat_Techno&Mat_Disp&Mat_Mat,0)), "")} | K18: {=IFERROR( INDEX(Seal_Seal, MATCH( User_Techno&User_Disp, INDEX( Seal_Techno, MATCH(User_Techno&User_Disp&K17,Seal_Techno&Seal_Disp&Seal_Seal,0)+1 ):INDEX(Seal_Techno,ROWS(Seal_Techno)) &INDEX( Seal_Disp, MATCH(User_Techno&User_Disp&K17,Seal_Techno&Seal_Disp&Seal_Seal,0)+1 ):INDEX(Seal_Disp,ROWS(Seal_Disp)),0) +MATCH(User_Techno&User_Disp&K17,Seal_Techno&Seal_Disp&Seal_Seal,0)), "")} | L18: {=IFERROR( INDEX(Seal_Descr, MATCH( User_Techno&User_Disp, INDEX( Seal_Techno, MATCH(User_Techno&User_Disp&K17,Seal_Techno&Seal_Disp&Seal_Seal,0)+1 ):INDEX(Seal_Techno,ROWS(Seal_Techno)) &INDEX( Seal_Disp, MATCH(User_Techno&User_Disp&K17,Seal_Techno&Seal_Disp&Seal_Seal,0)+1 ):INDEX(Seal_Disp,ROWS(Seal_Disp)),0) +MATCH(User_Techno&User_Disp&K17,Seal_Techno&Seal_Disp&Seal_Seal,0)), "")}
C19: {=IFERROR(INDEX(Pump_Disp,MATCH(User_Techno,INDEX(Pump_Techno,MATCH(User_Techno&C18,Pump_Techno&Pump_Disp,0)+1):INDEX(Pump_Techno,ROWS(Pump_Techno)),0)+MATCH(User_Techno&C18,Pump_Techno&Pump_Disp,0),0),"")} -> 0980 | D19: {=IFERROR(INDEX(Pump_Description,MATCH(User_Techno&C19,Pump_Techno&Pump_Disp,0)),"")} -> 980 cc | E19: {=IFERROR( INDEX(Flange_Motor, MATCH( User_Techno&User_Disp, INDEX( Flange_Techno, MATCH(User_Techno&User_Disp&E18,Flange_Techno&Flange_Disp&Flange_Motor,0)+1 ):INDEX(Flange_Techno,ROWS(Flange_Techno)) &INDEX( Flange_Disp, MATCH(User_Techno&User_Disp&E18,Flange_Techno&Flange_Disp&Flange_Motor,0)+1 ):INDEX(Flange_Disp,ROWS(Flange_Disp)),0) +MATCH(User_Techno&User_Disp&E18,Flange_Techno&Flange_Disp&Flange_Motor,0)), "")} | F19: =IFERROR(INDEX(Motor_Descr, MATCH(E19,Motor_Code,0)),"") | G19: {=IFERROR( INDEX(Mat_Mat, MATCH( User_Techno&User_Disp, INDEX( Mat_Techno, MATCH(User_Techno&User_Disp&G18,Mat_Techno&Mat_Disp&Mat_Mat,0)+1 ):INDEX(Mat_Techno,ROWS(Mat_Techno)) &INDEX( Mat_Disp, MATCH(User_Techno&User_Disp&G18,Mat_Techno&Mat_Disp&Mat_Mat,0)+1 ):INDEX(Mat_Disp,ROWS(Mat_Disp)),0) +MATCH(User_Techno&User_Disp&G18,Mat_Techno&Mat_Disp&Mat_Mat,0)), "")} | K19: {=IFERROR( INDEX(Seal_Seal, MATCH( User_Techno&User_Disp, INDEX( Seal_Techno, MATCH(User_Techno&User_Disp&K18,Seal_Techno&Seal_Disp&Seal_Seal,0)+1 ):INDEX(Seal_Techno,ROWS(Seal_Techno)) &INDEX( Seal_Disp, MATCH(User_Techno&User_Disp&K18,Seal_Techno&Seal_Disp&Seal_Seal,0)+1 ):INDEX(Seal_Disp,ROWS(Seal_Disp)),0) +MATCH(User_Techno&User_Disp&K18,Seal_Techno&Seal_Disp&Seal_Seal,0)), "")} | L19: {=IFERROR( INDEX(Seal_Descr, MATCH( User_Techno&User_Disp, INDEX( Seal_Techno, MATCH(User_Techno&User_Disp&K18,Seal_Techno&Seal_Disp&Seal_Seal,0)+1 ):INDEX(Seal_Techno,ROWS(Seal_Techno)) &INDEX( Seal_Disp, MATCH(User_Techno&User_Disp&K18,Seal_Techno&Seal_Disp&Seal_Seal,0)+1 ):INDEX(Seal_Disp,ROWS(Seal_Disp)),0) +MATCH(User_Techno&User_Disp&K18,Seal_Techno&Seal_Disp&Seal_Seal,0)), "")}
C20: {=IFERROR(INDEX(Pump_Disp,MATCH(User_Techno,INDEX(Pump_Techno,MATCH(User_Techno&C19,Pump_Techno&Pump_Disp,0)+1):INDEX(Pump_Techno,ROWS(Pump_Techno)),0)+MATCH(User_Techno&C19,Pump_Techno&Pump_Disp,0),0),"")} -> 1000 | D20: {=IFERROR(INDEX(Pump_Description,MATCH(User_Techno&C20,Pump_Techno&Pump_Disp,0)),"")} -> 1000 cc | E20: {=IFERROR( INDEX(Flange_Motor, MATCH( User_Techno&User_Disp, INDEX( Flange_Techno, MATCH(User_Techno&User_Disp&E19,Flange_Techno&Flange_Disp&Flange_Motor,0)+1 ):INDEX(Flange_Techno,ROWS(Flange_Techno)) &INDEX( Flange_Disp, MATCH(User_Techno&User_Disp&E19,Flange_Techno&Flange_Disp&Flange_Motor,0)+1 ):INDEX(Flange_Disp,ROWS(Flange_Disp)),0) +MATCH(User_Techno&User_Disp&E19,Flange_Techno&Flange_Disp&Flange_Motor,0)), "")} | F20: =IFERROR(INDEX(Motor_Descr, MATCH(E20,Motor_Code,0)),"") | G20: {=IFERROR( INDEX(Mat_Mat, MATCH( User_Techno&User_Disp, INDEX( Mat_Techno, MATCH(User_Techno&User_Disp&G19,Mat_Techno&Mat_Disp&Mat_Mat,0)+1 ):INDEX(Mat_Techno,ROWS(Mat_Techno)) &INDEX( Mat_Disp, MATCH(User_Techno&User_Disp&G19,Mat_Techno&Mat_Disp&Mat_Mat,0)+1 ):INDEX(Mat_Disp,ROWS(Mat_Disp)),0) +MATCH(User_Techno&User_Disp&G19,Mat_Techno&Mat_Disp&Mat_Mat,0)), "")} | K20: {=IFERROR( INDEX(Seal_Seal, MATCH( User_Techno&User_Disp, INDEX( Seal_Techno, MATCH(User_Techno&User_Disp&K19,Seal_Techno&Seal_Disp&Seal_Seal,0)+1 ):INDEX(Seal_Techno,ROWS(Seal_Techno)) &INDEX( Seal_Disp, MATCH(User_Techno&User_Disp&K19,Seal_Techno&Seal_Disp&Seal_Seal,0)+1 ):INDEX(Seal_Disp,ROWS(Seal_Disp)),0) +MATCH(User_Techno&User_Disp&K19,Seal_Techno&Seal_Disp&Seal_Seal,0)), "")} | L20: {=IFERROR( INDEX(Seal_Descr, MATCH( User_Techno&User_Disp, INDEX( Seal_Techno, MATCH(User_Techno&User_Disp&K19,Seal_Techno&Seal_Disp&Seal_Seal,0)+1 ):INDEX(Seal_Techno,ROWS(Seal_Techno)) &INDEX( Seal_Disp, MATCH(User_Techno&User_Disp&K19,Seal_Techno&Seal_Disp&Seal_Seal,0)+1 ):INDEX(Seal_Disp,ROWS(Seal_Disp)),0) +MATCH(User_Techno&User_Disp&K19,Seal_Techno&Seal_Disp&Seal_Seal,0)), "")}
C21: {=IFERROR(INDEX(Pump_Disp,MATCH(User_Techno,INDEX(Pump_Techno,MATCH(User_Techno&C20,Pump_Techno&Pump_Disp,0)+1):INDEX(Pump_Techno,ROWS(Pump_Techno)),0)+MATCH(User_Techno&C20,Pump_Techno&Pump_Disp,0),0),"")} | D21: {=IFERROR(INDEX(Pump_Description,MATCH(User_Techno&C21,Pump_Techno&Pump_Disp,0)),"")} | E21: {=IFERROR( INDEX(Flange_Motor, MATCH( User_Techno&User_Disp, INDEX( Flange_Techno, MATCH(User_Techno&User_Disp&E20,Flange_Techno&Flange_Disp&Flange_Motor,0)+1 ):INDEX(Flange_Techno,ROWS(Flange_Techno)) &INDEX( Flange_Disp, MATCH(User_Techno&User_Disp&E20,Flange_Techno&Flange_Disp&Flange_Motor,0)+1 ):INDEX(Flange_Disp,ROWS(Flange_Disp)),0) +MATCH(User_Techno&User_Disp&E20,Flange_Techno&Flange_Disp&Flange_Motor,0)), "")} | F21: =IFERROR(INDEX(Motor_Descr, MATCH(E21,Motor_Code,0)),"") | K21: {=IFERROR( INDEX(Seal_Seal, MATCH( User_Techno&User_Disp, INDEX( Seal_Techno, MATCH(User_Techno&User_Disp&K20,Seal_Techno&Seal_Disp&Seal_Seal,0)+1 ):INDEX(Seal_Techno,ROWS(Seal_Techno)) &INDEX( Seal_Disp, MATCH(User_Techno&User_Disp&K20,Seal_Techno&Seal_Disp&Seal_Seal,0)+1 ):INDEX(Seal_Disp,ROWS(Seal_Disp)),0) +MATCH(User_Techno&User_Disp&K20,Seal_Techno&Seal_Disp&Seal_Seal,0)), "")} | L21: {=IFERROR( INDEX(Seal_Descr, MATCH( User_Techno&User_Disp, INDEX( Seal_Techno, MATCH(User_Techno&User_Disp&K20,Seal_Techno&Seal_Disp&Seal_Seal,0)+1 ):INDEX(Seal_Techno,ROWS(Seal_Techno)) &INDEX( Seal_Disp, MATCH(User_Techno&User_Disp&K20,Seal_Techno&Seal_Disp&Seal_Seal,0)+1 ):INDEX(Seal_Disp,ROWS(Seal_Disp)),0) +MATCH(User_Techno&User_Disp&K20,Seal_Techno&Seal_Disp&Seal_Seal,0)), "")}

Sheet International
A1: Currency settings
A2: Country | B2: Language | C2: Currency | D2: Coef | E2: EXEL Annual Conversion | F2: Adjustment
A3: Argentina | B3: SP | C3: EUR | D3: =E3*F3 -> 1 | E3: 1 | F3: 1
A4: Brasil (Brazil) | B4: PT | C4: EUR | D4: =E4*F4 -> 1 | E4: 1 | F4: 1
A5: Deutschland (Germany) | B5: DE | C5: EUR | D5: =E5*F5 -> 1 | E5: 1 | F5: 1
A6: España (Spain) | B6: SP | C6: EUR | D6: =E6*F6 -> 1 | E6: 1 | F6: 1
A7: England | B7: GB | C7: EUR | D7: =E7*F7 -> 1 | E7: 1 | F7: 1
A8: France | B8: FR | C8: EUR | D8: =E8*F8 -> 1 | E8: 1 | F8: 1
A9: India | B9: GB | C9: EUR | D9: =E9*F9 -> 1 | E9: 1 | F9: 1
A10: USA | B10: GB | C10: USD | D10: 1.075 | E10: 1.075 | F10: 1
A11: Россия (Russia) | B11: RU | C11: EUR | D11: =E11*F11 -> 1 | E11: 1 | F11: 1
A12: Canada | B12: GB | C12: EUR | D12: =E12*F12 -> 1 | E12: 1 | F12: 1
A13: México (Mexico) | B13: SP | C13: EUR | D13: =E13*F13 -> 1 | E13: 1 | F13: 1
A14: Italia | B14: IT | C14: EUR | D14: =E14*F14 -> 1 | E14: 1 | F14: 1
A15: South Africa | B15: GB | C15: EUR | D15: =E15*F15 -> 1 | E15: 1 | F15: 1
A16: Polska (Poland) | B16: PL | C16: EUR | D16: =E16*F16 -> 1 | E16: 1 | F16: 1
A17: にほん (Japan) | B17: JP | C17: EUR | D17: =E17*F17 -> 1 | E17: 1 | F17: 1
A18: 中国 (China) | B18: CN | C18: EUR | D18: =E18*F18 -> 1 | E18: 1 | F18: 1
A19: Table foot - Do not remove this line
A21: Available Language
A22: GB
A23: FR
A24: SP
A25: DE
A26: PT
A27: IT
A28: RU
A29: PL
A30: JP
A31: CN
... A34: Translation
A35: GB | B35: FR | C35: SP | D35: DE | E35: PT | F35: IT | G35: RU | H35: PL | I35: JP | J35: CN
A36: Designation | B36: Désignation | C36: Designación | D36: Bezeichnung | E36: Designação | F36: Designazione | G36: Назначение | H36: Oznaczenie | I36: 名称 | J36: 名称
A37: Configuration | B37: Configuration | C37: Configuración | D37: Konfiguration | E37: Configuração | F37: Configurazione | G37: Конфигурация | H37: Konfiguracja | I37: 構成 | J37: 配置
A38: Select product configuration | B38: Sélectionner la configuration du produit | C38: Seleccione la configuración del producto | D38: Produktkonfiguration auswählen | E38: Selecione a configuração do produto | F38: Selezionare la configurazione del prodotto | G38: Выберите конфигурацию продукта | H38: Wybierz konfigurację produktu | I38: 製品構成を選択 | J38: 选择产品配置
